Workbook
Name Abstract_Nilaktai: [1]Data!$H$2897:$N$2923
Name asas: '[2]Data '!#REF!
Name Bill_Form_DPC: [1]Data!$AB$3062:$AN$3132
Name Comparative_Statmnt: [1]Data!$AO$3137:$BB$3200
Name cstt: [3]Data!#REF!
Name Data_Alagarkoil: [1]Data!$A$81:$G$3009
Name Detail_Est_bldg: #REF!
Name DPC_agt_Rates: [1]Data!$Q$2984:$Y$3053
Name eatimate: '[4]Constant ADE'!#REF!
Name Lead_Alagarkoil: [1]Data!#REF!
Name Lead_Kalencheri: [1]Data!#REF!
Name Lead_Kayavur: [1]Data!#REF!
Name LEAD_POOVANUR: [1]Data!#REF!
Name Lead_Vadakaraivayal: [1]Data!#REF!
Name yes: '[4]Constant ADE'!#REF!

Sheet ABST.
A1: ESTIMATION FOR ADDITIONAL CONSTRUCTION OF MASONRY OVER EXISTING COMPOUND WALL AT KANNUR AIRPORT,KOCHI
D3: ABSTRACT ESTIMATE
A4: S.NO | B4: Quantity | C4: UNIT | D4: Description of Work | E4: RATE | F4: PER UNIT | G4: AMOUNT
A6: 1 | B6: 21 | C6: Cu.m. | D6: Additional construction of masonry wall of 200mm thick, 300mm high for length of about 350 metres, over existing compound wall using laterite blocks of dimension 300mm x 150mm x 200mm (8in thick) and cement mortar of mix ratio 1:6 | E6: =DATA2!G18 -> 7929.538 | F6: Cu.m. | G6: =B6*E6 -> 166520.3
A7: 2 | B7: 280 | C7: Sq.m. | D7: Plastering of Masonry Wall of length 350m,height 300mm and 200mm thick, using cement,M-sand at the ratio of 1:5 of 12mm plaster thickness | E7: =DATA2!G31 -> 259.1 | F7: Sq.m. | G7: =B7*E7 -> 72548
A8: 3 | B8: 280 | C8: Sq.m. | D8: Providing and applying one coat of exterior grade CEMENT PRIMER over newly plastered masonry surface, including surface preparation, cleaning, patch filling, and curing; applied uniformly by brush/roller as per manufacturer specification, complete in all respects. | E8: =DATA2!G58 -> 91.8 | F8: Sq.m. | G8: =B8*E8 -> 25704
A9: 4 | B9: 280 | C9: Sq.m. | D9: Providing and applying one coat of CEMENT PAINT of approved shade and brand over primed surface, including surface preparation, achieving uniform shade and finish, and protecting work from moisture and weather during execution, complete in all respects. | E9: =DATA2!G59 -> 75.05 | F9: Sq.m. | G9: =B9*E9 -> 21014
A10: 5 | B10: 20 | C10: m | D10: Providing two legged scaffolding using 15cm diameter blue-gum posts or casuarina posts or best quality bamboo posts of 4m over all length (3m+0.5m projection+0.5m into the ground) the distance between the two rows being 1.25m and the spacing of posts being 2m in both the rows with two horizontal posts with 0.5m overlap on either side and braces at2m c/c including longitudinal and transverse middle braces to step up and providing a platform with country wood planks of 40mm thick and 1m width etc.,in a complete form using coir and nails 1m run. | E10: =DATA2!G75 -> 464.3 | F10: m | G10: =B10*E10 -> 9286
A11: TOTAL ESTIMATE IN RUPEES | G11: =SUM(G6:G10) -> 295072.3 | J11: =G11-G9-G8-G7 -> 175806.3 | N11: =J11/350 -> 502.30371
A13: 5 | D13: Supply, erect, maintain and dismantle steel tubular scaffolding (tube & coupler / system scaffold) complete with standards, ledgers, transoms, base plates, diagonal bracing, guard-rails, toe-boards, steel decking planks, ladders, temporary weather cover and all accessories to provide safe working platform at 3.3 m height for 20.0 m length per batch. Hire of steel scaffolding for working elevation 66.0 m² per batch (20 m × 3.3 m), charged per week / per duration as applicable. Total of 54 batches estimated.(18+18+18)
A16: 1 | B16: =DETAILED!O16 -> 3672 | C16: Cft | D16: Excavation of foundation trench of size 6'0" x 6'0" x 6'0" for 17 columns | E16: =DATA!H13 -> 2.646559 | F16: per Cft | G16: =B16*E16 -> 9718.1648
A18: 2 | B18: =DETAILED!O18 -> #REF! | C18: Cft | D18: Filling and consolidation of M.Sand at the base of each foundation trench for a volume of 6'0" x 6'0" x 0'6" ( 18 cft) for 17 columns | E18: =DATA!H18 -> 48.864911 | F18: per Cft | G18: =B18*E18 -> #REF!
A20: 3 | B20: =DETAILED!O20 -> #REF! | C20: Cft | D20: Laying of Plain Cement Concrete M7.5 grade (1:4:8) of volume 18 cft(6'0" x 6'0" x 0'6") each for 17 columns | E20: =DATA!H27 -> 145.72359 | F20: per Cft | G20: =B20*E20 -> #REF!
A22: 4 | B22: =DETAILED!O22 -> 637.5 | C22: Cft | D22: Laying of Sloped Footing of 5'0" x 5'0" with cuboidal base depth of 0'9" and trapezoidal lining depth of 0'9" with M20 grade concrete (1:2:4) and reinforcing with 12mm main rods & distributor rods at 0'6" centre to centre spacing and allround cover clearance of 0'2" excluding reinforcecement & centring charges | E22: =DATA!H49 -> 247.55027 | F22: per Cft | G22: =B22*E22 -> 157813.3
A24: 5 | B24: =DETAILED!O24 -> 95.625 | C24: Cft | D24: Laying of Footing Column(pedestal) of 1'6" x 1'6" x2'6" (5.625cft)with M20 grade concrete 1:2:4 and reinforcing with 4rods of 16mm, 4 rods of 20mm, 1 diamond stirrup, 1 two-legged stirrup spaced at 0'6"c/c providing cover clearance of 0'1" allround and 1'6" L-bend at the base, excluding reinforcecement & centring charges | E24: =E22 -> 247.55027 | F24: per Cft | G24: =B24*E24 -> 23671.994
A26: 6 | B26: =DETAILED!O26 -> 900 | C26: Cft | D26: Providing Grade Beam at Plinth level of size 2'0" x 1'6" for a length of 300'0" with M20 grade concrete 1:2:4 and steel reinforcement of 4 16mm bars & 4 12mm bars bound by 1 diamond stirrup, 1 two-legged stirrup at 0'7" c/c spacing with cover clearance of 0'1",excluding reinforcecement & centring charges | E26: =E24 -> 247.55027 | F26: per Cft | G26: =B26*E26 -> 222795.24
A28: 7 | B28: =DETAILED!O28 -> 592.875 | C28: Cft | D28: Laying of Columns of size 1'6" x 1'6" from plinth level upto roof beam bottom level for a height of 15'6" with M20 grade concrete 1:2:4 and reinforcing with 4rods of 16mm, 4 rods of 20mm bound by 1 diamond stirrup, 1 two-legged stirrup spaced at 0'6"c/c providing cover clearance of 0'1" allround,excluding reinforcecement & centring charges | E28: =E26 -> 247.55027 | F28: per Cft | G28: =B28*E28 -> 146766.37
A30: 8 | B30: =DETAILED!O30 -> 1125 | C30: Cft | D30: Laying of Roof Beam of size 2'6" x 1'6" for a length of 300'0" with M20 grade concrete 1:2:4 and steel reinforcement of 4 20mm bars & 6 16mm bars bound by 1 diamond stirrup, 1 two-legged stirrup at 0'6" c/c spacing with 0'1" cover,excluding reinforcecement & centring charges | E30: =E28 -> 247.55027 | F30: per Cft | G30: =B30*E30 -> 278494.05
A32: 9 | B32: =DETAILED!O32 -> 1305.5 | C32: Cft | D32: Providing two-way Roof Slab of thickness 0'6" for a span of 2611 sqft with M20 grade concrete 1:2:4 and steel reinforcement of 10mm rods as main rods at 0'5" c/c spacing and 8mm rods as distributor rods at 0'5" c/c spacing,excluding reinforcecement & centring charges | E32: =E30 -> 247.55027 | F32: per Cft | G32: =B32*E32 -> 323176.88
A34: 10 | B34: =DETAILED!O34 -> 1305.5 | C34: Cft | D34: Laying of weathering course for slab floor span of 2611 sqft of 0'6" thickness using lime,brick jelly,sand | E34: =DATA!H64 -> 107.2699 | F34: per Cft | G34: =B34*E34 -> 140040.85
A36: 11 | B36: =DETAILED!O36 -> 174.75 | C36: Cft | D36: Providing One-Brick Parapet Wall of 0'9" thickness at the circumferrence of roof slab for a length of 233'0" & height 1'0" using burnt clay bricks of dimensions 0'9" x 0'4 1/2" x 0'3" & cement sand mortar of ratio 1:6 including cornice layer with throating | E36: =DATA!H75 -> 182.69187 | F36: per Cft | G36: =B36*E36 -> 31925.405
A38: 12 | B38: =DETAILED!O40 -> 873.75 | C38: Sqft | D38: Plastering of Parapet Wall of length 233'0" and height 1'0" using cement, p-sand at the ratio of 1:4 | E38: =DATA!I88 -> 23.327138 | F38: per Sqft | G38: =B38*E38 -> 20382.086
A41: 13 | B41: =DETAILED!O44 -> 1350 | C41: Sqft | D41: Plastering of lateral sides of beam of area 1350 sqft using cement , p-sand at 1:4 | E41: =E38 -> 23.327138 | F41: per Sqft | G41: =B41*E41 -> 31491.636
A44: 14 | B44: =DETAILED!O47 -> 2611 | C44: Sqft | D44: Plastering of Slab Ceiling of span 2611 sqft using cement and p-sand at 1:3 | E44: =DATA!I100 -> 26.710037 | F44: per Sqft | G44: =B44*E44 -> 69739.907
A47: 15 | B47: =DETAILED!O50 -> 169.715 | C47: Cft | D47: Flooring of span 2219sqft using 20mm thick granite slab(0.7ft) over sand spread of 0'2" thickness with cement paste | E47: =DATA!I119 -> 242.34201 | F47: per Cft | G47: =B47*E47 -> 41129.074
A49: 16 | B49: =DETAILED!O52 -> 17 | C49: nos | D49: Ornamental pillar decorative plastering as per the drawing . Included pothigai and all other moulding designs included. | E49: =DATA!G127 -> 30000 | F49: per no | G49: =B49*E49 -> 510000
A51: 17 | B51: =DETAILED!O54 -> 90 | C51: Rft | D51: Kodunkai plastering all other decorative plasterings | E51: =DATA!G129 -> 1800 | F51: per Rft | G51: =B51*E51 -> 162000
A53: 18 | B53: =DETAILED!O56 -> 90 | C53: Rft | D53: Salaharam work infront of mandapam east side | E53: =DATA!G131 -> 3600 | F53: per Rft | G53: =B53*E53 -> 324000
A55: 19 | D55: Centring of sides and/or soffits using MS Sheets & MS Angles supported by silver oak joists, silver oak planks and casaurian posts
A56: a | B56: =DETAILED!O59 -> 510 | C56: Sqft | D56: Footing | E56: =DATA!I156 -> 79.804833 | F56: per Sqft | G56: =B56*E56 -> 40700.465
A58: b | B58: =DETAILED!O61 -> 255 | C58: Sqft | D58: Column Pedestal | E58: =DATA!I156 -> 79.804833 | F58: per Sqft | G58: =B58*E58 -> 20350.232
A60: c | B60: =DETAILED!O63 -> 1200 | C60: Sqft | D60: Plinth Beam | E60: =DATA!I156 -> 79.804833 | F60: per Sqft | G60: =B60*E60 -> 95765.799
A62: d | B62: =DETAILED!O65 -> 1581 | C62: Sqft | D62: Column | E62: =DATA!I156 -> 79.804833 | F62: per Sqft | G62: =B62*E62 -> 126171.44
A64: e | B64: =DETAILED!O67 -> 1800 | C64: Sqft | D64: Roof Beam | E64: =DATA!I159 -> 89.033457 | F64: per Sqft | G64: =B64*E64 -> 160260.22
A66: f | B66: =DETAILED!O71 -> 2611 | C66: Sqft | D66: Roof Slab | E66: =DATA!I159 -> 89.033457 | F66: per Sqft | G66: =B66*E66 -> 232466.36
A69: 20 | B69: =STEEL!Z100/100 -> 95.804519 | C69: quintal | D69: Fabrication of Steel Reinforcement | E69: =STEEL!W108 -> 8887.4 | F69: per Qntl | G69: =B69*E69 -> 851453.08
A71: 21 | B71: 280 | C71: lit | D71: Painting two coats of newly plastered wall surface with ready mixed Exterior Exterior emulsion paint of first class quality and of approved colour over a priming coat including thorough scrapping, clean removal of dirt, and including necessary plaster of paris putty, wherever required etc., complete complying with standard specification. | E71: 680 | F71: per litre | G71: =B71*E71 -> 190400
A73: 22 | B73: 4 | C73: ton | D73: Painting two coats of newly plastered wall surface with ready mixed Exterior Exterior emulsion paint of first class quality and of approved colour over a priming coat including thorough scrapping, clean removal of dirt, and including necessary plaster of paris putty, wherever required etc., complete complying with standard specification. | E73: 18000 | F73: per ton | G73: =B73*E73 -> 72000
E75: TOTAL ESTIMATED AMOUNT | G75: =SUM(G16:G74) -> #REF!

Sheet DETAILED
A1: ESTIMATION FOR ADDITIONAL CONSTRUCTION OF MASONRY OVER EXISTING COMPOUND WALL AT KANNUR AIRPORT,KOCHI
A2: DETAILED QUANTITY ESTIMATE
A4: S.No. | B4: Description of Work | C4: Dimension | O4: Total Quantity (size) | P4: Unit | R4: Material Required | S4: Quantity | T4: Unit | U4: Rate | V4: Per Unit | W4: Estimate
C5: Nos | G5: Length | I5: Breadth | K5: Thickness | M5: Quantity | N5: Unit
G6: m | I6: m | K6: m
A7: 1 | B7: Additional construction of masonry wall of 200mm thick, 300mm high for length of about 350 metres, over existing compound wall using laterite blocks of dimension 300mm x 150mm x 200mm (8in thick) and cement mortar of mix ratio 1:6 | C7: 1 | E7: 1 | G7: 350 | I7: 0.3 | K7: 0.2 | M7: =G7*I7*K7 -> 21 | N7: Cu.m. | O7: =M7 -> 21 | P7: Cu.m.
A8: 2 | B8: Plastering of Masonry Wall of length 350m,height 300mm and 200mm thick, using cement,M-sand at the ratio of 1:5 of 12mm plaster thickness
B9: Parapet Wall Sides | C9: 1 | E9: 2 | G9: 350 | I9: 0.3 | M9: =C9*E9*G9*I9 -> 210 | N9: Sq.m. | O9: =M9+M10 -> 280 | P9: Sq.m.
B10: Parapet Wall top cornice layer | C10: 1 | E10: 1 | G10: 350 | K10: 0.2 | M10: =C10*E10*G10*K10 -> 70 | N10: Sq.m.
A11: 3 | B11: Providing and applying one coat of exterior grade CEMENT PRIMER over newly plastered masonry surface, including surface preparation, cleaning, patch filling, and curing; applied uniformly by brush/roller as per manufacturer specification, complete in all respects. | C11: 1 | E11: 1 | G11: 350 | I11: 0.8 | M11: =C11*E11*G11*I11 -> 280 | N11: Sq.m. | O11: =M11 -> 280 | P11: Sq.m.
A12: 4 | B12: Providing and applying one coat of CEMENT PAINT of approved shade and brand over primed surface, including surface preparation, achieving uniform shade and finish, and protecting work from moisture and weather during execution, complete in all respects. | C12: 1 | E12: 1 | G12: 350 | I12: 0.8 | M12: =C12*E12*G12*I12 -> 280 | N12: m | O12: =M12 -> 280 | P12: m
A13: 5 | B13: Providing two legged scaffolding using 15cm diameter blue-gum posts or casuarina posts or best quality bamboo posts of 4m over all length (3m+0.5m projection+0.5m into the ground) the distance between the two rows being 1.25m and the spacing of posts being 2m in both the rows with two horizontal posts with 0.5m overlap on either side and braces at2m c/c including longitudinal and transverse middle braces to step up and providing a platform with country wood planks of 40mm thick and 1m width etc.,in a complete form using coir and nails 1m run. | C13: 1 | E13: 1 | G13: 20 | M13: =C13*E13*G13 -> 20 | N13: Sq.m. | O13: =M13 -> 20 | P13: Sq.m.
A16: 1 | B16: Excavation of foundation trench of size 6'0" x 6'0" x 6'0" for 17 columns | C16: 1 | D16: x | E16: 17 | G16: 6 | I16: 6 | K16: 6 | M16: =C16*E16*G16*I16*K16 -> 3672 | O16: =M16 -> 3672 | P16: cft | U16: 60 | W16: =O16*U16 -> 220320
A18: 2 | B18: Filling and consolidation of M.Sand at the base of each foundation trench for a depth of 0'6" for 17 columns | C18: 1 | E18: 17 | G18: 6 | I18: 6 | K18: =#REF! -> #REF! | M18: =C18*E18*G18*I18*#REF! -> #REF! | O18: =M18 -> #REF! | P18: cft | R18: Sand | S18: 306 | T18: cft | U18: 65 | V18: per cft | W18: =S18*U18 -> 19890
A20: 3 | B20: Laying of Plain Cement Concrete M7.5 grade (1:4:8) of a depth of 0'6" for 17 columns | C20: 1 | D20: x | E20: 17 | G20: 6 | I20: 6 | K20: =#REF! -> #REF! | M20: =C20*E20*G20*I20*#REF! -> #REF! | O20: =M20 -> #REF! | P20: cft | R20: Cement | S20: 29.41 | T20: bags | U20: 400 | V20: per bag | W20: =U20*S20 -> 11764
R21: Sand | S21: 145.01 | T21: cft | U21: 65 | V21: per cft | W21: =S21*U21 -> 9425.65
A22: 4 | B22: Laying of Sloped Footing of 5'0" x 5'0" with cuboidal base depth of 0'9" and trapezoidal lining depth of 0'9" with M20 grade concrete (1:2:4) and reinforcing with 12mm main rods & distributor rods at 0'6" centre to centre spacing and allround cover clearance of 0'2" | C22: 1 | E22: 17 | G22: 5 | I22: 5 | K22: 1.5 | M22: =C22*E22*G22*I22*K22 -> 637.5 | O22: =M22 -> 637.5 | P22: cft | V22: per cft | W22: =O22*U22 -> 0
R23: Cement | S23: 108.3 | T23: bags | U23: 400 | V23: per bag | W23: =S23*U23 -> 43320
A24: 5 | B24: Laying of Column Pedestal of 1'6" x 1'6" x2'6" (5.625cft)with M20 grade concrete 1:2:4 and reinforcing with 4rods of 16mm, 4 rods of 20mm, 1 diamond stirrup, 1 two-legged stirrup spaced at 0'6"c/c providing cover clearance of 0'1" allround and 1'6" L-bend at the base | C24: 1 | E24: 17 | G24: 1.5 | I24: =G24 -> 1.5 | K24: 2.5 | M24: =C24*E24*G24*I24*K24 -> 95.625 | O24: =M24 -> 95.625 | P24: cft | R24: Cement | S24: 16.26 | T24: bags | U24: 400 | V24: per bag | W24: =S24*U24 -> 6504
R25: Sand | S25: 40.59 | T25: cft | U25: 65 | V25: per cft | W25: =S25*U25 -> 2638.35
A26: 6 | B26: Providing Grade Beam at Plinth level of size 1'6" x 2'0" for a length of 300'0" with M20 grade concrete 1:2:4 and steel reinforcement of 4 16mm bars & 4 12mm bars bound by 1 diamond stirrup, 1 two-legged stirrup at 0'7" c/c spacing with cover clearance of 0'1" | C26: 1 | E26: 1 | G26: 300 | I26: 1.5 | K26: 2 | M26: =G26*I26*K26*E26 -> 900 | O26: =M26 -> 900 | P26: cft | R26: Cement | S26: 152.8 | T26: bags | U26: 400 | V26: per bag | W26: =S26*U26 -> 61120
R27: Sand | S27: 381.69 | T27: cft | U27: 65 | V27: per cft | W27: =S27*U27 -> 24809.85
A28: 7 | B28: Laying of Columns of size 1'6" x 1'6" from plinth level upto roof beam bottom level for a height of 15'6" with M20 grade concrete 1:2:4 and reinforcing with 4rods of 16mm, 4 rods of 20mm bound by 1 diamond stirrup, 1 two-legged stirrup spaced at 0'6"c/c providing cover clearance of 0'1" allround | C28: 1 | E28: 17 | G28: 1.5 | I28: 1.5 | K28: 15.5 | M28: =C28*E28*G28*I28*K28 -> 592.875 | O28: =M28 -> 592.875 | P28: cft | R28: Cement | S28: 100.68 | T28: bags | U28: 400 | V28: per bag | W28: =S28*U28 -> 40272
R29: Sand | S29: 251.36 | T29: cft | U29: 65 | V29: per cft | W29: =S29*U29 -> 16338.4
A30: 8 | B30: Laying of Roof Beam of size 2'6" x 1'6" for a length of 300'0" with M20 grade concrete 1:2:4 and steel reinforcement of 4 20mm bars & 6 16mm bars bound by 1 diamond stirrup, 1 two-legged stirrup at 0'6" c/c spacing with 0'1" cover | C30: 1 | E30: 1 | G30: 300 | I30: 2.5 | K30: 1.5 | M30: =C30*E30*G30*I30*K30 -> 1125 | O30: =M30 -> 1125 | P30: cft | R30: Cement | S30: 191.1 | T30: bags | U30: 400 | V30: per bag | W30: =S30*U30 -> 76440
R31: Sand | S31: 477.11 | T31: cft | U31: 65 | V31: per cft | W31: =S31*U31 -> 31012.15
A32: 9 | B32: Providing two-way Roof Slab of thickness 0'6" for a span of 2611 sqft with M20 grade concrete 1:2:4 and steel reinforcement of 10mm rods as main rods at 0'5" c/c spacing and 8mm rods as distributor rods at 0'5" c/c spacing | C32: 1 | E32: 1 | G32: 2611 | K32: 0.5 | M32: =C32*E32*G32*K32 -> 1305.5 | O32: =M32 -> 1305.5 | P32: cft | R32: Cement | S32: 221.56 | T32: bags | U32: 400 | V32: per bag | W32: =S32*U32 -> 88624
R33: Sand | S33: 553.62 | T33: cft | U33: 65 | V33: per cft | W33: =S33*U33 -> 35985.3
A34: 10 | B34: Laying of weathering course for slab floor span of 2611 sqft of 0'6" thickness using lime,brick jelly,sand | C34: 1 | E34: 1 | G34: 2611 | K34: 0.5 | M34: =C34*E34*G34*K34 -> 1305.5 | O34: =M34 -> 1305.5 | P34: cft | R34: lime | S34: 221 | T34: bags | U34: 300 | W34: =S34*U34 -> 66300
R35: brick jelly | S35: 1105 | T35: cft | U35: 60 | W35: =S35*U35 -> 66300
A36: 11 | B36: Providing One-Brick Parapet Wall of 0'9" thickness at the circumferrence of roof slab for a length of 233'0" & height 1'0" using burnt clay bricks of dimensions 0'9" x 0'4 1/2" x 0'3" & cement M.sand mortar of ratio 1:6 | C36: 1 | E36: 1 | G36: 233 | I36: 0.75 | K36: 1 | M36: =C36*E36*G36*I36*K36 -> 174.75 | O36: =M36 -> 174.75 | P36: cft | R36: Brick | S36: 3000 | T36: nos | U36: 12 | V36: per no | W36: =S36*U36 -> 36000
R37: Cement | S37: 4.14 | T37: bags | U37: 400 | V37: per bag | W37: =S37*U37 -> 1656
R38: Sand | S38: 25.67 | T38: cft | U38: 60 | V38: per cft | W38: =S38*U38 -> 1540.2
W39: =SUM(W36:W38) -> 39196.2
A40: 12 | B40: Plastering of Parapet Wall of length 233'0" , height 1'0" & thickness 0'9" with cornice throating layer a top of thickness 1'3"using cement, p-sand at the ratio of 1:4 | O40: =M41+M42 -> 873.75 | P40: sqft | R40: Cement | S40: 8.34 | T40: bags | U40: 400 | V40: per bag | W40: =S40*U40 -> 3336
B41: Parapet Wall Sides | C41: 1 | E41: 2 | G41: 233 | K41: 1 | M41: =C41*E41*G41*K41 -> 466
B42: Parapet Wall top cornice layer | C42: 1 | E42: 1 | G42: 233 | I42: =1.25+0.5 -> 1.75 | M42: =E42*G42*I42 -> 407.75 | R42: P-Sand | S42: 41.3 | T42: cft | U42: 60 | V42: per cft | W42: =932*U42 -> 55920
W43: =SUM(W40:W42) -> 59256
A44: 13 | B44: Plastering of lateral sides of beam of area 1350 sqft using cement , p-sand at 1:4 | C44: 1 | E44: 1 | G44: 300 | K44: 2.5 | M44: =C44*E44*K44*G44 -> 750 | O44: =M44+M45 -> 1350 | P44: sqft | R44: Cement | S44: 9.1 | T44: bags | U44: 400 | V44: per bag | W44: =U44*S44 -> 3640
C45: 1 | E45: 1 | G45: 300 | K45: 2 | M45: =C45*E45*G45*K45 -> 600 | R45: P-Sand | S45: 45 | T45: cft | U45: 65 | V45: per cft | W45: =S45*U45 -> 2925
W46: =SUM(W44:W45) -> 6565
A47: 14 | B47: Plastering of Slab Ceiling of span 2611 sqft using cement and p-sand at 1:3 | C47: 1 | E47: 1 | G47: 2611 | O47: =G47 -> 2611 | P47: sqft | R47: Cement | S47: 29.26 | T47: bags | U47: 400 | V47: per bag | W47: =U47*S47 -> 11704
R48: P-Sand | S48: 108.51 | T48: cft | U48: 65 | V48: per cft | W48: =S48*U48 -> 7053.15
W49: =SUM(W47:W48) -> 18757.15
A50: 15 | B50: Flooring of span 2216sqft using 20mm thick granite slab(0.7ft) over sand spread of 0'2" thickness with cement paste | C50: 1 | E50: 1 | G50: 2611 | K50: 0.065 | M50: =C50*E50*G50*K50 -> 169.715 | O50: =M50 -> 169.715 | P50: cft | R50: Granite | S50: 2219 | T50: sft | U50: 400 | W50: =2219*400 -> 887600
R51: Sand | S51: 369.8 | T51: cft | U51: 65 | W51: =S51*U51 -> 24037
A52: 16 | B52: Ornamental pillar decorative plastering as per the drawing . Included pothigai and all other moulding designs included. | C52: 1 | E52: 17 | M52: =C52*E52 -> 17 | O52: 17 | P52: Nos | U52: 30000 | W52: =O52*U52 -> 510000
A54: 17 | B54: Kodunkai plastering all other decorative plasterings | C54: 1 | E54: 90 | M54: =C54*E54 -> 90 | O54: =M54 -> 90 | P54: Rft | U54: 1800 | W54: =O54*U54 -> 162000
A56: 18 | B56: Salaharam work infront of mandapam east side | C56: 1 | E56: 90 | M56: =O56 -> 90 | O56: 90 | P56: Rft | U56: 3600 | W56: =O56*U56 -> 324000
A58: 19 | B58: Centring of sides and/or soffits using MS Sheets & MS Angles suorted by silver oal joists, silver oak planks and casaurian posts | O58: =M59+M61+M63+M65+M71+M69+M68+M67 -> 7957 | P58: Sqft | U58: 25 | V58: per Rft | W58: =O58*U58 -> 198925
A59: a | B59: Footing | C59: 1 | E59: 17 | G59: =5*4 -> 20 | K59: 1.5 | M59: =E59*G59*K59 -> 510 | O59: =M59 -> 510
A61: b | B61: Column Pedestal | C61: 1 | E61: 17 | G61: 6 | K61: 2.5 | M61: =E61*G61*K61 -> 255 | O61: =M61 -> 255 | U61: 25 | V61: per Rft | W61: =O59*U61 -> 12750
A63: c | B63: Plinth Beam | C63: 1 | E63: 2 | G63: 300 | K63: 2 | M63: =C63*E63*G63*K63 -> 1200 | O63: =M63 -> 1200 | V63: LS | W63: 6000
A65: d | B65: Column | C65: 1 | E65: 17 | G65: 6 | K65: 15.5 | M65: =C65*E65*G65*K65 -> 1581 | O65: =M65 -> 1581 | U65: 150 | V65: per sqft | W65: =O65*U65 -> 237150
A67: e | B67: Beam exterior side | C67: 1 | E67: 1 | G67: 300 | K67: 2.5 | M67: =C67*E67*G67*K67 -> 750 | O67: =M67+M68+M69 -> 1800 | U67: 60 | V67: per sqft | W67: =O67*U67 -> 108000
B68: Beam interior side | C68: 1 | E68: 1 | G68: 300 | K68: 2 | M68: =C68*E68*G68*K68 -> 600
B69: Beam soffit (bottom) | C69: 1 | E69: 1 | G69: 300 | K69: 1.5 | M69: =C69*E69*G69*K69 -> 450 | U69: 80 | V69: Rft | W69: =O69*U69 -> 0
A71: f | B71: Roof Slab | C71: 1 | E71: 1 | G71: 2611 | M71: =C71*E71*G71 -> 2611 | O71: =M71 -> 2611 | U71: 80 | V71: Rft | W71: =O71*U71 -> 208880
A73: 20 | B73: Fabrication of Steel Reinforcement | C73: _ | O73: =STEEL!Z100:Z100 -> 9580.4519 | P73: kgs
A75: 21 | B75: Painting two coats of newly plastered wall surface with ready mixed Exterior Exterior emulsion paint of first class quality and of approved colour over a priming coat including thorough scrapping, clean removal of dirt, and including necessary plaster of paris putty, wherever required etc., complete complying with standard specification. | C75: L.S. | G75: _ | M75: L.S. | O75: 280 | P75: lit
A77: 22 | B77: Providing Scaffolding with Casurina posts for main form work and covered with non inflammable shadow net made in Polimer / Plastic etc complete for Vimanam | C77: L.S. | M77: L.S. | O77: 4 | P77: ton
W78: =SUM(W16:W73) -> 3747954.4

Sheet LEAD
A1: PROPOSED CONSTRUCTION OF R.C.C. MANDAPAM FOR AALAMARATHADI IYARKAI VINAYAGAR TEMPLE AT CHENNAI
A4: With Reference to Arulmigu Kalamegaperumal Thirukoil, Thirumohur, Madurai East Taluk, Madurai District.
A5: LEAD STATEMENT 2023- 24
A6: Sl. No | B6: Name of materials | C6: Source | D6: Lead in Km | E6: Unit | F6: Cost of Materials | G6: Lead Charges | H6: Total cost at Site | K6: Labour Charges 2023-24 | L6: per day
A7: 1 | B7: Cement | C7: At Site | D7: 0 | E7: MT | F7: 6040 | G7: 0 | H7: =SUM(F7:G7) -> 6040 | K7: Carpenter I Class | L7: 976
A8: 2 | B8: R.T.S rods | C8: At Site | D8: 0 | E8: MT | F8: 58000 | G8: 0 | H8: =SUM(F8:G8) -> 58000 | K8: Carpenter II Class | L8: 932
A9: 3 | B9: C.S. Sand (M.Sand) for Mortar and filling | C9: Thadhampatti | D9: 36 | E9: Cum | F9: 1338 | G9: 353.22 | H9: =SUM(F9:G9) -> 1691.22 | K9: Fitter I Class for Other works | L9: 881
A10: 4 | B10: P. Sand | C10: =C9 -> Thadhampatti | D10: =D9 -> 36 | E10: Cum | F10: 1343 | G10: 353.22 | H10: =SUM(F10:G10) -> 1696.22 | K10: Fitter II Class for Other works | L10: 856
A11: 5 | B11: H.B.Stone 40mm | C11: Thadhampatti | D11: 36 | E11: Cum | F11: 1069.8 | G11: 353.22 | H11: =SUM(F11:G11) -> 1423.02 | K11: Fitter I Class for Barbending | L11: 866
A12: 6 | B12: H.B.Stone 20mm | C12: =C11 -> Thadhampatti | D12: =D11 -> 36 | E12: Cum | F12: 1489 | G12: 353.22 | H12: =SUM(F12:G12) -> 1842.22 | K12: Fitter II Class | L12: 839
A13: 7 | B13: H.B.Stone 12mm | C13: =C11 -> Thadhampatti | D13: =D11 -> 36 | E13: Cum | F13: 1382 | G13: 353.22 | H13: =SUM(F13:G13) -> 1735.22 | K13: Plumber I Class | L13: 866
A14: 8 | B14: H.B.Stone 10mm | C14: =C11 -> Thadhampatti | D14: =D11 -> 36 | E14: Cum | F14: 1016 | G14: 353.22 | H14: =SUM(F14:G14) -> 1369.22 | K14: Plumber II Class | L14: 839
A15: 9 | B15: Rough Stone | C15: =C11 -> Thadhampatti | D15: =D11 -> 36 | E15: Cum | F15: 449.4 | G15: 353.22 | H15: =SUM(F15:G15) -> 802.62 | K15: Mason I class | L15: 999
A16: 10 | B16: Bond Stone | C16: =C11 -> Thadhampatti | D16: =D11 -> 36 | E16: Cum | F16: 648.4 | G16: 353.22 | H16: =SUM(F16:G16) -> 1001.62 | K16: Mason II class | L16: 932
A17: 11 | B17: II Class Chamber Bricks 9"x43/8"x23/4" | C17: Silaiman | D17: 16 | E17: 1000 nos | F17: 6595 | G17: 247 | H17: =SUM(F17:G17) -> 6842 | K17: Mazdoor I class | L17: 651
A18: 12 | B18: Country Bricks 8 3/4" x 41/4" x 2 3/4" | C18: =C17 -> Silaiman | D18: =D17 -> 16 | E18: =E17 -> 1000 nos | F18: 5709 | G18: =K47 -> 0 | H18: =SUM(F18:G18) -> 5709 | K18: Mazdoor II class | L18: 534
A19: 12 | B19: Brick jelly 20mm tk | C19: =C17 -> Silaiman | D19: =D17 -> 16 | E19: Cum | F19: 786 | G19: 120 | H19: =SUM(F19:G19) -> 906 | K19: Painter I Class | L19: 797
A20: 13 | B20: Brick jelly 40mm tk | C20: =C17 -> Silaiman | D20: =D19 -> 16 | E20: Cum | F20: 705 | G20: =K49 -> 0 | H20: =SUM(F20:G20) -> 705 | K20: Painter II Class | L20: 772
A21: 14 | B21: Shell lime | C21: At Site | D21: 0 | E21: Cum | F21: 1348 | G21: =K50 -> 0 | H21: =SUM(F21:G21) -> 1348 | K21: Stone Cutter I Class | L21: 766
A22: 15 | B22: Slaked Lime | C22: Madurai | D22: 12 | E22: Cum | F22: 993 | G22: 93 | H22: =SUM(F22:G22) -> 1086 | K22: Stone Cutter II Class | L22: 738
A23: 16 | B23: Pressed tiles 200 x 200 x 20mm | C23: Madurai | D23: 12 | E23: 1000 nos | F23: 11356 | G23: =K52 -> 0 | H23: =SUM(F23:G23) -> 11356 | K23: Floor Polisher | L23: 769
A24: 17 | B24: Pressed tiles 230 x 230 x 20mm | C24: =C23 -> Madurai | D24: =D23 -> 12 | E24: 1000 nos | F24: 16106 | G24: =K53 -> 0 | H24: =SUM(F24:G24) -> 16106
A25: 18 | B25: Gravel | C25: Local | D25: 5 | E25: Cum | F25: 222.7 | G25: =K54 -> 0 | H25: =SUM(F25:G25) -> 222.7
A26: 19 | B26: Stone Dust | C26: =C11 -> Thadhampatti | D26: =D11 -> 36 | E26: Cum | F26: 123.7 | G26: =K55 -> 0 | H26: =SUM(F26:G26) -> 123.7
A27: 20 | B27: Slaked Lime | C27: Pollachi | D27: 180 | E27: Cum | F27: 10345 | G27: =K56 -> 0 | H27: =SUM(F27:G27) -> 10345
A28: Certified that the Lead particulars given above are True and Correct to the best of my knowledge.

Sheet DATA
A1: ESTIMATION FOR ADDITIONAL CONSTRUCTION OF MASONRY OVER EXISTING COMPOUND WALL AT KANNUR AIRPORT,KOCHI
A4: STANDARD DATA & SUB DATA FOR LISTED WORKS INCLUDES MATERIAL & LABOR RATE PER UNIT WORK
N7: Page
A8: S.NO | B8: QUANTITY | C8: UNIT | D8: DESCRIPTION OF WORK | E8: RATE | F8: PER UNIT | G8: AMOUNT | H8: RATE PER CFT | I8: RATE PER SFT | N8: 33 | O8: Mixing Cement Mortar | P8: 116
N9: 33 | O9: Grinding LimeMortar | P9: 280.6
A12: 1 | B12: 1 | C12: Cum | D12: Earthwork excavation for foundation and basement | N12: 26 | O12: Earth Filling | P12: 38.95
B13: 1 | C13: Cum | D13: Earthwork excavation in Hard soil & loose soil (112.05+74.85)/2 | E13: 93.45 | F13: Cum | G13: =ROUND((B13*E13),2) -> 93.45 | H13: =G13/35.31 -> 2.646559 | N13: 26 | O13: C.S.Sand (M.Sand) Filling | P13: 34.2
O14: vibration charges | P14: 94.2
A15: 2 | B15: 1 | C15: Cum | D15: M.Sand filling for foundation and Basement
B16: 1 | C16: Cum | D16: M.Sand | E16: =LEAD!H9 -> 1691.22 | F16: Cum | G16: =B16*E16 -> 1691.22
B17: 1 | C17: Cum | D17: Filling charges | E17: =P13 -> 34.2 | F17: Cum | G17: =B17*E17 -> 34.2
D18: Rate per Cum | G18: =ROUNDUP(SUM(G16:G17),2) -> 1725.42 | H18: =G18/35.31 -> 48.864911
A20: 3 | B20: 10 | C20: Cum | D20: P.C.C. 1:4:8 using 40mm HBS metal for foundation
B21: 9 | C21: Cum | D21: 40mm HBS Metal | E21: =LEAD!H11 -> 1423.02 | F21: Cum | G21: =ROUND((B21*E21),2) -> 12807.18
B22: 4.5 | C22: Cum | D22: C.M.1:4 | E22: =G33 -> 3981.62 | F22: Cum | G22: =ROUND((B22*E22),2) -> 17917.29
B23: 1.8 | C23: Nos | D23: Mason II class | E23: =LEAD!L16 -> 932 | F23: Each | G23: =ROUND((B23*E23),2) -> 1677.6
B24: 17.7 | C24: Nos | D24: Mazdoor I class | E24: =LEAD!L17 -> 651 | F24: Each | G24: =ROUND((B24*E24),2) -> 11522.7
B25: 14.1 | C25: Nos | D25: Mazdoor II class | E25: =LEAD!L18 -> 534 | F25: Each | G25: =ROUND((B25*E25),2) -> 7529.4
D26: Total Charges per 10 Cum | G26: =ROUNDUP(SUM(G21:G25),2) -> 51454.17
D27: Rate per Cum | G27: =ROUNDUP((G26/10),1) -> 5145.5 | H27: =G27/35.31 -> 145.72359
B29: 1 | C29: Cum | D29: CEMENT MORTAR 1:4
B30: 360 | C30: Kg | D30: Cement | E30: =LEAD!H7 -> 6040 | F30: MT | G30: =ROUND((B30*E30/1000),2) -> 2174.4
B31: 1 | C31: Cum | D31: C.S.Sand (M.Sand) for mortar | E31: =G16 -> 1691.22 | F31: Cum | G31: =ROUND((B31*E31),2) -> 1691.22
B32: 1 | C32: Cum | D32: Mixing charges | E32: =P8 -> 116 | F32: Cum | G32: =ROUND((B32*E32),2) -> 116
D33: Rate per Cum | G33: =SUM(G30:G32) -> 3981.62
A35: 4 | B35: 10 | C35: Cum | D35: R.C.C M15 grade concrete (1:2:4)
D36: CEMENT MORTAR 1:2
B37: 720 | C37: Kg | D37: Cement | E37: =E30 -> 6040 | F37: MT | G37: =ROUND((B37*E37/1000),2) -> 4348.8
B38: 1 | C38: Cum | D38: C.S.Sand (M.Sand) for mortar | E38: =E31 -> 1691.22 | F38: Cum | G38: =ROUND((B38*E38),2) -> 1691.22
B39: 1 | C39: Cum | D39: Mixing charges | E39: =E32 -> 116 | F39: Cum | G39: =ROUND((B39*E39),2) -> 116
D40: Rate per Cum | G40: =SUM(G37:G39) -> 6156.02
B41: 10 | C41: Cum | D41: R.C.C. M15 GRADE 1:2:4 USING 20MM COARSE AGG.
B42: 9 | C42: Cum | D42: 20mm HBS Metal | E42: =LEAD!H12 -> 1842.22 | F42: Cum | G42: =ROUND((B42*E42),2) -> 16579.98
B43: 4.5 | C43: Cum | D43: C.M.1:2 | E43: =G40 -> 6156.02 | F43: Cum | G43: =ROUND((B43*E43),2) -> 27702.09
B44: 3.5 | C44: Nos | D44: Mason II class | E44: =DATA!E23 -> 932 | F44: Each | G44: =ROUND((B44*E44),2) -> 3262
B45: 21.2 | C45: Nos | D45: Mazdoor I class | E45: =E24 -> 651 | F45: Each | G45: =ROUND((B45*E45),2) -> 13801.2
B46: 35.3 | C46: Nos | D46: Mazdoor II class | E46: =E25 -> 534 | F46: Each | G46: =ROUND((B46*E46),2) -> 18850.2
B47: 10 | C47: Cum | D47: Vibration Charges | E47: =P14 -> 94.2 | F47: Cum | G47: =ROUND((B47*E47),2) -> 942
D48: Total for 10 cum | G48: =SUM(G39:G47) -> 87409.49
D49: Rate per Cum | G49: =ROUNDUP((G48/10),1) -> 8741 | H49: =G49/35.31 -> 247.55027
B50: 1 | C50: MT | D50: Fabrication of Steel Reinforcement
B51: 1000 | C51: Kg | D51: Mild steel or RTS | E51: =LEAD!H8 -> 58000 | F51: MT | G51: =B51*E51/1000 -> 58000
B52: 10 | C52: Kg | D52: Binding wire | E52: 56.35 | F52: Kg | G52: =B52*E52 -> 563.5
B53: 35 | C53: Nos | D53: Fitter I class | E53: =LEAD!L11 -> 866 | F53: Each | G53: =B53*E53 -> 30310
D54: Total Rate per MT | G54: =SUM(G51:G53) -> 88873.5
D55: Rate per Qtl | G55: =ROUND((G54/10),1) -> 8887.4
A57: 10 | B57: 10 | C57: Cum | D57: Weathering Course with broken 20mm brick jelly lime Concrete 1:2:5
B58: 12.8 | C58: Cum | D58: Brick jelly 20mm | E58: =LEAD!H19 -> 906 | F58: Cum | G58: =ROUND((B58*E58),2) -> 11596.8
B59: 5 | C59: Cum | D59: Slacked Lime | E59: =LEAD!H22 -> 1086 | F59: Cum | G59: =ROUND((B59*E59),2) -> 5430
B60: 1.8 | C60: Nos | D60: Mason I class | E60: =LEAD!L15 -> 999 | F60: Each | G60: =ROUND((B60*E60),2) -> 1798.2
B61: 17.7 | C61: Nos | D61: Mazdoor I class | E61: =LEAD!L17 -> 651 | F61: Each | G61: =ROUND((B61*E61),2) -> 11522.7
B62: 14.1 | C62: Nos | D62: Mazdoor II class | E62: =E46 -> 534 | F62: Each | G62: =ROUND((B62*E62),2) -> 7529.4
D63: Total Rate per 10 cum | G63: =SUM(G58:G62) -> 37877.1
D64: Rate per Cum | G64: =ROUND((G63/10),1) -> 3787.7 | H64: =G64/35.31 -> 107.2699
A66: 11 | B66: 2.83 | C66: cum | D66: Brick work in following Cement Mortar using best quality II class Ground moulded chamber burnt bricks of size 9" x 4-1/2" x 3" including curing, etc., complete complying with standard specifiction.
D67: In Cement Mortar 1:6
B68: 1160 | C68: Nos. | D68: II class Ground moulded chamber burnt bricks of size 9" x 4-1/2" x 3" | E68: =LEAD!H17 -> 6842 | F68: 1000 Nos. | G68: =+E68*B68/1000 -> 7936.72
B69: 0.623 | C69: cu.m. | D69: Cement mortar 1:6 | E69: =G80 -> 3256.82 | F69: cu.m. | G69: =+E69*B69 -> 2028.9989
B70: 1 | C70: Nos. | D70: Mason I Class | E70: =E60 -> 999 | F70: Each | G70: =+E70*B70 -> 999
B71: 3 | C71: Nos. | D71: Mason II Class | E71: =E44 -> 932 | F71: Each | G71: =+E71*B71 -> 2796
B72: 2 | C72: Nos. | D72: Mazdoor I Class | E72: =E61 -> 651 | F72: Each | G72: =+E72*B72 -> 1302
B73: 6 | C73: Nos. | D73: Mazdoor II Class | E73: =E62 -> 534 | F73: Each | G73: =+E73*B73 -> 3204
D74: Total for 100 cft (or) 2.83168 cu.m. | G74: =SUM(G68:G73) -> 18266.719
D75: Rate for 1 cu.m. | G75: =CEILING(G74/2.83168,0.05) -> 6450.85 | H75: =G75/35.31 -> 182.69187
D76: CEMENT MORTAR 1:6
B77: =1440/6 -> 240 | C77: Kg | D77: Cement | E77: =E37 -> 6040 | F77: MT | G77: =ROUND((B77*E77/1000),2) -> 1449.6
B78: 1 | C78: Cum | D78: C.S.Sand (M.Sand) for mortar | E78: =E31 -> 1691.22 | F78: Cum | G78: =ROUND((B78*E78),2) -> 1691.22
B79: 1 | C79: Cum | D79: Mixing charges | E79: =E39 -> 116 | F79: Cum | G79: =ROUND((B79*E79),2) -> 116
D80: Rate per Cum | G80: =SUM(G77:G79) -> 3256.82
A82: 12,13 | B82: 10 | C82: Sqm | D82: Plastering with CM 1: 5 12mm tk
B83: 0.14 | C83: Cum | D83: Cement Mortar 1:5 with P.Sand | E83: =G93 -> 3551.74 | F83: cu.m. | G83: =ROUND((B83*E83),2) -> 497.24
B84: 1.1 | C84: Nos | D84: Mason I class | E84: =E70 -> 999 | F84: Each | G84: =ROUND((B84*E84),2) -> 1098.9
B85: 0.5 | C85: Nos | D85: Mazdoor I class | E85: =E72 -> 651 | F85: Each | G85: =ROUND((B85*E85),2) -> 325.5
B86: 1.1 | C86: Nos | D86: Mazdoor II class | E86: =E73 -> 534 | F86: Each | G86: =ROUND((B86*E86),2) -> 587.4
D87: Total Rate Per 10 sqm | G87: =SUM(G83:G86) -> 2509.04
D88: Rate per Sqm | G88: =ROUNDUP((G87/10),1) -> 251 | I88: =G88/10.76 -> 23.327138
D89: CEMENT MORTAR 1:5
B90: 288 | C90: Kg | D90: Cement | E90: =E77 -> 6040 | F90: MT | G90: =ROUND((B90*E90/1000),2) -> 1739.52
B91: 1 | C91: Cum | D91: C.S.Sand (M.Sand) for mortar | E91: =LEAD!H10 -> 1696.22 | F91: Cum | G91: =ROUND((B91*E91),2) -> 1696.22
B92: 1 | C92: Cum | D92: Mixing charges | E92: =E79 -> 116 | F92: Cum | G92: =ROUND((B92*E92),2) -> 116
D93: Rate per Cum | G93: =SUM(G90:G92) -> 3551.74
A94: 14 | B94: 10 | C94: sqm | D94: Special ceiling plastering and finishing the exposed surface of all RCC items of work such as slabs, beams, sunshades, facia, canopy slab, staircase waist slab, landing slab etc., with Cement Mortar 1:3 (One Cement and Three P.Sand) 10mm thick
B95: 0.1 | C95: cu.m. | D95: Cement mortar 1:3 with P.Sand | E95: =G105 -> 4711.42 | F95: cu.m. | G95: =+E95*B95 -> 471.142
B96: 1.1 | C96: Nos. | D96: Mason I Class | E96: =E84 -> 999 | F96: Each | G96: =+E96*B96 -> 1098.9
B97: 1.1 | C97: Nos. | D97: Mazdoor I Class | E97: =E85 -> 651 | F97: Each | G97: =+E97*B97 -> 716.1
B98: 1.1 | C98: Nos. | D98: Mazdoor II Class | E98: =E86 -> 534 | F98: Each | G98: =+E98*B98 -> 587.4
D99: Total for 10 sq.m. | G99: =SUM(G95:G98) -> 2873.542
D100: Rate per Sqm | G100: =ROUNDUP((G99/10),1) -> 287.4 | I100: =G100/10.76 -> 26.710037
D101: CEMENT MORTAR 1:3 with P.Sand | I101: .
B102: 480 | C102: Kg | D102: Cement | E102: =E90 -> 6040 | F102: MT | G102: =ROUND((B102*E102/1000),2) -> 2899.2
B103: 1 | C103: Cum | D103: P.Sand for mortar | E103: =E91 -> 1696.22 | F103: Cum | G103: =B103*E103 -> 1696.22
B104: 1 | C104: Cum | D104: Mixing charges | E104: =E92 -> 116 | F104: Cum | G104: =B104*E104 -> 116
D105: Total Charges per Cum | G105: =SUM(G102:G104) -> 4711.42
A107: 15 | B107: 10 | C107: Sqm | D107: Paving the floor with best approved quality fine polished Granite Stone Slabs of size 1200 x 600 of 18 / 20mm thick of Jet Black and similar varieties with machine cut edges laid over a cement mortar bed of 20mm thick using cement mortar 1:3 (One cement and three sand) fixing the slabs with required cement slurry and laid in true right angles with minimum possible width of joints and pointing the joints with white cement mixed with matching colouring pigments etc., The granite stone slabs and other materials to be used shall be got approved by the Executive Engineer concerned before use on work, etc., complete as per standard speicification.
B108: 10 | C108: Sqm | D108: Cost of Jet Black Granite slabs - 20mm thick | E108: 1737 | F108: m2 | G108: =ROUND((B108*E108),2) -> 17370
B109: 0.21 | C109: Cum | D109: Cement mortar 1:3 | E109: =G124 -> 4711.42 | F109: m3 | G109: =ROUND((B109*E109),2) -> 989.4
B110: 4 | C110: Kg | D110: Colour White cement | E110: 27.25 | F110: KG | G110: =ROUND((B110*E110),2) -> 109
B111: 1.1 | C111: Nos | D111: Mason I class | E111: =E96 -> 999 | F111: Each | G111: =ROUND((B111*E111),2) -> 1098.9
B112: 2.7 | C112: Nos | D112: Mason II class | E112: =LEAD!L16 -> 932 | F112: Each | G112: =ROUND((B112*E112),2) -> 2516.4
B113: 2.7 | C113: Nos | D113: Mazdoor I category | E113: =E97 -> 651 | F113: Each | G113: =ROUND((B113*E113),2) -> 1757.7
...

Sheet DATA2
A1: ESTIMATION FOR ADDITIONAL CONSTRUCTION OF MASONRY OVER EXISTING COMPOUND WALL AT KANNUR AIRPORT,KOCHI
A4: STANDARD DATA & SUB DATA FOR LISTED WORKS INCLUDES MATERIAL & LABOR RATE PER UNIT WORK
A7: S.NO | B7: QUANTITY | C7: UNIT | D7: DESCRIPTION OF WORK | E7: RATE | F7: PER UNIT | G7: AMOUNT
A9: 1 | B9: 2.83 | C9: Cu.m. | D9: Additional construction of masonry wall of 200mm thick, 300mm high for length of about 350 metres, over existing compound wall using laterite blocks of dimension 300mm x 150mm x 200mm(8in thick) and cement mortar of mix ratio 1:6 | M9: 2.83 | N9: Cu.m.
D10: In Cement Mortar 1:6
B11: 315 | C11: Nos. | D11: laterite blocks of dimension 300mm x 150mm x 200mm(8in thick) | E11: 28 | F11: nos. | G11: =E11*B11 -> 8820 | M11: adding one inch or 25mm of mortar around each block | O11: 0.325 | P11: 0.175 | Q11: 0.225 | R11: =O11*P11*Q11 -> 0.012796875
B12: =R15 -> 1.1960156 | C12: cu.m. | D12: Cement mortar 1:6 | E12: =G23 -> 4458.9 | F12: cu.m. | G12: =+E12*B12 -> 5332.9141 | M12: normal dimension of block | O12: 0.3 | P12: 0.15 | Q12: 0.2 | R12: =O12*P12*Q12 -> 0.009
B13: 1 | C13: Nos. | D13: Mason I Class | E13: 999 | F13: Each | G13: =+E13*B13 -> 999
B14: 3 | C14: Nos. | D14: Mason II Class | E14: 932 | F14: Each | G14: =+E14*B14 -> 2796 | M14: volume of mortar for each block | R14: =R11-R12 -> 0.003796875
B15: 2 | C15: Nos. | D15: Mazdoor I Class | E15: 651 | F15: Each | G15: =+E15*B15 -> 1302 | M15: total volume of mortar | R15: =R14*315 -> 1.1960156
B16: 6 | C16: Nos. | D16: Mazdoor II Class | E16: 534 | F16: Each | G16: =+E16*B16 -> 3204
D17: Total for 100 cft (or) 2.83168 cu.m. | G17: =SUM(G11:G16) -> 22453.914
D18: Rate for 1 cu.m. | G18: =G17/2.83168 -> 7929.538
D19: CEMENT MORTAR 1:6 | O19: 21 | P19: cum
B20: =1440/6 -> 240 | C20: Kg | D20: Cement | E20: =380*20 -> 7600 | F20: MT | G20: =ROUND((B20*E20/1000),2) -> 1824 | I20: rate per cft | M20: cement | Q20: =B20*R15 -> 287.04375 | R20: kg
B21: 1 | C21: Cum | D21: C.S.Sand (M.Sand) for mortar | E21: 2518.9 | F21: Cum | G21: =ROUND((B21*E21),2) -> 2518.9 | I21: =E21/35.31 -> 71.336732 | M21: sand | Q21: =B21*R15 -> 1.1960156 | R21: cum
B22: 1 | C22: Cum | D22: Mixing charges | E22: 116 | F22: Cum | G22: =ROUND((B22*E22),2) -> 116 | M22: blocks | Q22: =(B11/2.83)*O19 -> 2337.4558 | R22: nos
D23: Rate per Cum | G23: =SUM(G20:G22) -> 4458.9
A25: 2 | B25: 10 | C25: Sqm | D25: Plastering with CM 1: 5 12mm tk
B26: =B25*0.012 -> 0.12 | C26: Cum | D26: Cement Mortar 1:5 with M.Sand | E26: =G36 -> 4823.7 | F26: Cum | G26: =ROUND((B26*E26),2) -> 578.84 | O26: 280 | P26: sqft | Q26: =O26*0.012 -> 3.36 | R26: cum
B27: 1.1 | C27: Nos | D27: Mason I class | E27: 999 | F27: Each | G27: =ROUND((B27*E27),2) -> 1098.9 | M27: cement | Q27: =B33*Q26 -> 967.68 | R27: kg
B28: 0.5 | C28: Nos | D28: Mazdoor I class | E28: 651 | F28: Each | G28: =ROUND((B28*E28),2) -> 325.5 | M28: sand | Q28: =B34*Q26 -> 3.36 | R28: cum
B29: 1.1 | C29: Nos | D29: Mazdoor II class | E29: 534 | F29: Each | G29: =ROUND((B29*E29),2) -> 587.4
D30: Total Rate Per 10 sqm | G30: =SUM(G26:G29) -> 2590.64
D31: Rate per Sqm | G31: =ROUNDUP((G30/10),1) -> 259.1
D32: CEMENT MORTAR 1:5
B33: 288 | C33: Kg | D33: Cement | E33: =E20 -> 7600 | F33: MT | G33: =ROUND((B33*E33/1000),2) -> 2188.8
B34: 1 | C34: Cum | D34: C.S.Sand (M.Sand) for mortar | E34: =E21 -> 2518.9 | F34: Cum | G34: =ROUND((B34*E34),2) -> 2518.9
B35: 1 | C35: Cum | D35: Mixing charges | E35: 116 | F35: Cum | G35: =ROUND((B35*E35),2) -> 116
D36: Rate per Cum | G36: =SUM(G33:G35) -> 4823.7
A38: 3,4 | B38: 10 | C38: SQ.M. | D38: Supplying and painting the walls with one coat of cement paint over one coat of cement primer including preparation of surface curing, etc., complete in all floors complying with standard specifications (The colour and shade of the cement paint shall be got approved by the Executive Engineer before use of work).
D39: For basic one coat of primer with cement paint
B40: 10 | C40: sq.m. | D40: Cleaning the plastered surface | E40: 5.25 | F40: sq.m. | G40: =+E40*B40 -> 52.5 | N40: 280 | O40: Sq.m.
B41: 1.8 | C41: Kg | D41: Cement Paint | E41: 49.85 | F41: Kg | G41: =+E41*B41 -> 89.73 | L41: cement primer | O41: =(B41/10)*N40 -> 50.4 | P41: kg
B42: 0.25 | C42: Nos. | D42: Painter I Class | E42: 797 | F42: Each | G42: =+E42*B42 -> 199.25 | L42: cement paint | O42: =(B49/10)*N40 -> 42 | P42: kg
B43: 0.25 | C43: Nos. | D43: Mazdoor I Class | E43: 651 | F43: Each | G43: =+E43*B43 -> 162.75 | L43: sundries | O43: 300 | P43: rupees
B44: 0.4 | C44: Nos. | D44: Mazdoor II Class | E44: 534 | F44: Each | G44: =+E44*B44 -> 213.6
C45: LS | D45: Sundries for brushes, etc. | F45: LS | G45: 200
D46: Rate for 10 sq.m. | G46: =SUM(G40:G45) -> 917.83
D47: Rate for 1 sq.m. | G47: =CEILING(G46/10,0.05) -> 91.8
D48: For finishing one coat
B49: =I49/2 -> 1.5 | C49: Kg | D49: Cement Paint | E49: 49.85 | F49: Kg | G49: =B49*E49 -> 74.775 | I49: 3
B50: =I50/2 -> 0.25 | C50: Nos. | D50: Painter I Class | E50: 797 | F50: Each | G50: =B50*E50 -> 199.25 | I50: 0.5
B51: =I51/2 -> 0.25 | C51: Nos. | D51: Mazdoor I Class | E51: 651 | F51: Each | G51: =B51*E51 -> 162.75 | I51: 0.5
B52: =I52/2 -> 0.4 | C52: Nos. | D52: Mazdoor II Class | E52: 534 | F52: Each | G52: =B52*E52 -> 213.6 | I52: 0.8
C53: LS | D53: Sundries for brushes, etc. | F53: LS | G53: 100
D54: Rate per 10 sq.m. | G54: =SUM(G49:G53) -> 750.375
D55: Rate per 1 sq.m. | G55: =CEILING(G54/10,0.05) -> 75.05
D57: Main Data
B58: 1 | C58: sq.m. | D58: Basic one coat of primer with cement paint | E58: =G47 -> 91.8 | G58: =+E58*B58 -> 91.8
B59: 1 | C59: sq.m. | D59: For finishing one coat with cement paint | E59: =G55 -> 75.05 | G59: =+E59*B59 -> 75.05
D60: Rate per 1 sq.m. | G60: =SUM(G58:G59) -> 166.85
A62: 5 | B62: Providing two legged scaffolding using 15cm diameter blue-gum posts or casuarina posts or best quality bamboo posts of 4m over all length (3m+0.5m projection+0.5m into the ground) the distance between the two rows being 1.25m and the spacing of posts being 2m in both the rows with two horizontal posts with 0.5m overlap on either side and braces at2m c/c including longitudinal and transverse middle braces to step up and providing a platform with country wood planks of 40mm thick and 1m width etc.,in a complete form using coir and nails 1m run.
D63: Rate for 6 run.m
B64: 70 | C64: run.m | D64: 13cm to15cm.diameter posts (Casuarina or bamboo posts ) | E64: 33 | F64: 1run.m | G64: =E64*B64 -> 2310
B65: 0.3 | C65: m3 | D65: Country wood planks(upto 30cm wide-40mm tk) | E65: 39400 | F65: m3 | G65: =E65*B65 -> 11820
D66: Total cost of materials | G66: =SUM(G64:G65) -> 14130
D67: Materials can be used for 10 times | G67: =G66 -> 14130 | N67: ls
D68: Cost per operation | G68: =G67/10 -> 1413
D70: Detailed data
D71: Cost of materials for one operation | G71: =G68 -> 1413
B72: 2 | C72: nos | D72: Mazdoor I class | E72: 651 | F72: Each | G72: =E72*B72 -> 1302 | J72: Coir, nails etc., | N72: 1000 | O72: LS
C73: LS | D73: Coir, nails etc., | G73: =G71*5% -> 70.65 | J73: COUNTRY WOOD PLANKS | N73: =(B65/6)*20 -> 1 | O73: CUM | P73: 3300 | Q73: ls
D74: Total for 6 run.m | G74: =SUM(G71:G73) -> 2785.65 | J74: POSTS | N74: =(B64/6)*20 -> 233.33333 | O74: RUN.M | P74: =N74*E64 -> 7700
D75: Rate for 1 run.m | G75: =ROUND(G74/6,1) -> 464.3

Sheet Sheet2
A1: ESTIMATION FOR ADDITIONAL CONSTRUCTION OF MASONRY OVER EXISTING COMPOUND WALL AT KANNUR AIRPORT,KOCHI
A2: MATERIAL PURCHASE - ( Approx Qty )
A4: S.No | C4: Material | D4: Quantity | E4: Unit | F4: RATE | G4: Per Unit | H4: AMOUNT | J4: Price of one 50kg bag of cement | L4: 380 | M4: rupees
A5: 1 | B5: LATERITE MASONRY | C5: Cement | D5: 287.04375 | E5: kg | F5: =380/50 -> 7.6 | G5: per kg | H5: =D5*F5 -> 2181.5325
C6: M Sand | D6: 1.1960156 | E6: cum | F6: =L10/35.31 -> 71.336732 | G6: per cft | H6: =(D6*35.31)*F6 -> 3012.6438 | J6: Density of M Sand | L6: 1750 | M6: kg/cum
C7: Laterite block | D7: 2337.4558 | E7: nos | F7: 45 | G7: block | H7: =D7*F7 -> 105185.51
A8: 2 | B8: PLASTERING | C8: Cement | D8: 967.68 | E8: kg | F8: =F5 -> 7.6 | G8: =G5 -> per kg | H8: =D8*F8 -> 7354.368 | J8: Price of 1 ton M Sand | L8: =(L10/7)*4 -> 1439.3714 | M8: rupees | Q8: 1200 | R8: 3 | S8: 10 | T8: =Q8*R8*S8 -> 36000
C9: M Sand | D9: 3.36 | E9: cum | F9: =F6 -> 71.336732 | G9: per cft | H9: =D9*F9 -> 239.69142 | Q9: 1000 | R9: 4 | S9: 10 | T9: =Q9*R9*S9 -> 40000
A10: 3,4 | B10: PAINTING | C10: Cement Primer | D10: 50.4 | E10: kg | F10: 50 | G10: per kg | H10: =D10*F10 -> 2520 | J10: Price of 1 CuM of M Sand | L10: 2518.9 | M10: rupees
C11: Cement Paint | D11: 42 | E11: kg | F11: 50 | G11: per kg | H11: =D11*F11 -> 2100
C12: Sundries for brush etc. | D12: 300 | E12: rupees | F12: LS | H12: =D12 -> 300
A13: 5 | B13: SCAFFOLDING | C13: Coir, nails etc. | D13: 1000 | E13: rupees | F13: LS | H13: =D13 -> 1000
C14: Country wood planks | D14: 1 | E14: cum | F14: LS | H14: 3300
C15: Casuarina posts | D15: 233.33333 | E15: run m. | F15: 33 | G15: per run m | H15: =D15*F15 -> 7700
A16: TOTAL MATERIAL ESTIMATE | H16: =SUM(H5:H15) -> 134893.75 | J16: APPROX LABOR ESTIMATE | L16: =Q16-H16 -> 198026.48 | Q16: 332920.23

Sheet STEEL
A1: PROPOSED CONSTRUCTION OF R.C.C. MANDAPAM FOR AALAMARATHADI IYARKAI VINAYAGAR TEMPLE AT CHENNAI
A3: STEEL TONNAGE CALCULATION
A4: S.No. | B4: Description of Work | C4: Dimension | Q4: Quantity (size) | R4: Unit | T4: Material Required | U4: Quantity | V4: Unit | W4: Weight per rod kg/12m | X4: Per Unit | Y4: Total Weight of individual rods | Z4: Total weight of cummulative rods(kg)
C5: Nos | G5: Length | J5: Width | M5: Depth | P5: Volume
G6: ft | H6: in | J6: ft | K6: in | M6: ft | N6: in | P6: cft
A8: 1 | B8: Excavation of foundation trench of size 6'0" x 6'0" x 6'0" for 17 columns | C8: 1 | D8: x | E8: 17 | G8: 6 | H8: 0 | J8: 6 | K8: 0 | M8: 6 | N8: 0 | P8: =C8*E8*G8*J8*M8 -> 3672 | Q8: =P8 -> 3672 | R8: cft | W8: 60 | Y8: =Q8*W8 -> 220320
A10: 2 | B10: Filling and consolidation of M.Sand at the base of each foundation trench for a depth of 0'6" for 17 columns | C10: 1 | E10: 17 | G10: 6 | J10: 6 | M10: =N10 -> 0.5 | N10: 0.5 | P10: =C10*E10*G10*J10*N10 -> 306 | Q10: =P10 -> 306 | R10: cft | T10: Sand | U10: 306 | V10: cft | W10: 65 | X10: per cft | Y10: =U10*W10 -> 19890
A12: 3 | B12: Laying of Plain Cement Concrete M7.5 grade (1:4:8) of a depth of 0'6" for 17 columns | C12: 1 | D12: x | E12: 17 | G12: 6 | H12: 0 | J12: 6 | K12: 0 | M12: =N12 -> 0.5 | N12: 0.5 | P12: =C12*E12*G12*J12*N12 -> 306 | Q12: =P12 -> 306 | R12: cft | T12: Cement | U12: 29.41 | V12: bags | W12: 400 | X12: per bag | Y12: =W12*U12 -> 11764
T13: Sand | U13: 145.01 | V13: cft | W13: 65 | X13: per cft | Y13: =U13*W13 -> 9425.65
T14: 40mm coarse aggregate | U14: 306.17 | V14: cft | W14: 30 | X14: per cft | Y14: =U14*W14 -> 9185.1
Y15: =SUM(Y12:Y14) -> 30374.75
A16: 4 | B16: Laying of Sloped Footing of 5'0" x 5'0" with cuboidal base depth of 0'9" and trapezoidal lining depth of 0'9" with M20 grade concrete (1:2:4) and reinforcing with 12mm main rods & distributor rods at 0'6" centre to centre spacing and allround cover clearance of 0'2" | C16: 1 | E16: 17 | G16: 5 | H16: 0 | J16: 5 | K16: 0 | M16: 1.5 | N16: 0 | P16: =C16*E16*G16*J16*M16 -> 637.5 | Q16: =P16 -> 637.5 | R16: cft
T17: Cement | U17: 108.3 | V17: bags | W17: 400 | X17: per bag | Y17: =U17*W17 -> 43320
T18: Sand | U18: 270.38 | V18: cft | W18: 65 | X18: per cft | Y18: =U18*W18 -> 17574.7
T19: 20mm coarse aggregate | U19: 540.77 | V19: cft | W19: 40 | X19: per cft | Y19: =U19*W19:W19 -> 21630.8
T20: 12 mm steel rod | U20: 32 | V20: rods | W20: =12*12/162*12 -> 10.666667 | X20: per kg | Y20: =U20*W20 -> 341.33333 | Z20: =Y20 -> 341.33333
A22: 5 | B22: Laying of Column Pedestal of 1'6" x 1'6" x2'6" (5.625cft)with M20 grade concrete 1:2:4 and reinforcing with 4rods of 16mm, 4 rods of 20mm, 1 diamond stirrup, 1 two-legged stirrup spaced at 0'6"c/c providing cover clearance of 0'1" allround and 1'6" L-bend at the base | C22: 1 | E22: 17 | G22: 1.5 | H22: 0 | J22: =G22 -> 1.5 | K22: 0 | M22: 2.5 | N22: 0 | P22: =C22*E22*G22*J22*M22 -> 95.625 | Q22: =P22 -> 95.625 | R22: cft
T25: 8mm steel rod | U25: 45.9 | V25: rods | W25: =8*8/162*12 -> 4.7407407 | X25: per kg | Y25: =U25*W25 -> 217.6 | Z25: =Y25+Y26+Y27 -> 671.94074
T26: 16mm steel rod | U26: 9.35 | V26: rods | W26: =16*16/162*12 -> 18.962963 | X26: per kg | Y26: =U26*W26 -> 177.3037
T27: 20mm steel rod | U27: 9.35 | V27: rods | W27: =20*20/162*12 -> 29.62963 | X27: per kg | Y27: =U27*W27 -> 277.03704
A29: 6 | B29: Providing Grade Beam at Plinth level of size 2'0" x 1'6" for a length of 300'0" with M20 grade concrete 1:2:4 and steel reinforcement of 4 16mm bars & 4 12mm bars bound by 1 diamond stirrup, 1 two-legged stirrup at 0'7" c/c spacing with cover clearance of 0'1" | C29: 1 | E29: 1 | G29: 300 | H29: 0 | J29: 2 | K29: 0 | M29: 1.5 | N29: 0 | P29: =G29*J29*M29*E29 -> 900 | Q29: =P29 -> 900 | R29: cft
T32: 8mm steel rod | U32: 179.55 | V32: rods | W32: =8*8/162*12 -> 4.7407407 | X32: per kg | Y32: =U32*W32 -> 851.2 | Z32: =SUM(Y32:Y34) -> 1740.0889
T33: 12mm steel rod | U33: 30 | V33: rods | W33: =12*12/162*12 -> 10.666667 | X33: per kg | Y33: =U33*W33 -> 320
T34: 16mm steel rod | U34: 30 | V34: rods | W34: =16*16/162*12 -> 18.962963 | X34: per kg | Y34: =U34*W34 -> 568.88889
A36: 7 | B36: Laying of Columns of size 1'6" x 1'6" from plinth level upto roof beam bottom level for a height of 15'6" with M20 grade concrete 1:2:4 and reinforcing with 4rods of 16mm, 4 rods of 20mm bound by 1 diamond stirrup, 1 two-legged stirrup spaced at 0'6"c/c providing cover clearance of 0'1" allround | C36: 1 | E36: 17 | G36: 1.5 | H36: 0 | J36: 1.5 | K36: 0 | M36: 15.5 | N36: 0 | P36: =C36*E36*G36*J36*M36 -> 592.875 | Q36: =P36 -> 592.875 | R36: cft
T39: 8mm steel rod | U39: =6528/40 -> 163.2 | V39: rods | W39: =8*8/162*12 -> 4.7407407 | X39: per kg | Y39: =U39*W39 -> 773.68889 | Z39: =SUM(Y39:Y41) -> 2054.1037
T40: 16mm steel rod | U40: =1054/40 -> 26.35 | V40: rods | W40: =16*16/162*12 -> 18.962963 | X40: per kg | Y40: =U40*W40 -> 499.67407
T41: 20mm steel rod | U41: =1054/40 -> 26.35 | V41: rods | W41: =20*20/162*12 -> 29.62963 | X41: per kg | Y41: =U41*W41 -> 780.74074
A43: 8 | B43: Laying of Roof Beam of size 2'6" x 1'6" for a length of 300'0" with M20 grade concrete 1:2:4 and steel reinforcement of 4 20mm bars & 6 16mm bars bound by 1 diamond stirrup, 1 two-legged stirrup at 0'6" c/c spacing with 0'1" cover | C43: 1 | E43: 1 | G43: 300 | H43: 0 | J43: 2.5 | K43: 0 | M43: 1.5 | N43: 0 | P43: =C43*E43*G43*J43*M43 -> 1125 | Q43: =P43 -> 1125 | R43: cft
T46: 8mm steel bar | U46: =9600/40 -> 240 | V46: rods | W46: =8*8/162*12 -> 4.7407407 | X46: per kg | Y46: =U46*W46 -> 1137.7778 | Z46: =SUM(Y46:Y48) -> 2880
T47: 16mm steel bar | U47: =1800/40 -> 45 | V47: rods | W47: =16*16/162*12 -> 18.962963 | X47: per kg | Y47: =U47*W47 -> 853.33333
T48: 20mm steel bar | U48: =1200/40 -> 30 | V48: rods | W48: =20*20/162*12 -> 29.62963 | X48: per kg | Y48: =U48*W48 -> 888.88889
A50: 9 | B50: Providing two-way Roof Slab of thickness 0'6" for a span of 2611 sqft with M20 grade concrete 1:2:4 and steel reinforcement of 10mm rods as main rods at 0'5" c/c spacing and 8mm rods as distributor rods at 0'5" c/c spacing | C50: 1 | E50: 1 | G50: 2611 | M50: 0.5 | P50: =C50*E50*G50*M50 -> 1305.5 | Q50: =P50 -> 1305.5 | R50: cft
T53: 8 mm steel rod | U53: =6233/40 -> 155.825 | V53: rods | W53: =8*8/162*12 -> 4.7407407 | X53: per kg | Y53: =U53*W53 -> 738.72593 | Z53: =SUM(Y53:Y54) -> 1892.9852
T54: 10mm steel rod | U54: =6233/40 -> 155.825 | V54: rods | W54: =10*10/162*12 -> 7.4074074 | X54: per kg | Y54: =U54*W54 -> 1154.2593
A56: 10 | B56: Laying of weathering course for slab floor span of 2611 sqft of 0'6" thickness using lime,brick jelly,sand | C56: 1 | E56: 1 | G56: 2611 | M56: 0.5 | P56: =C56*E56*G56*M56 -> 1305.5 | Q56: =P56 -> 1305.5 | R56: cft | T56: lime | U56: 221 | V56: bags | W56: 300 | Y56: =U56*W56 -> 66300
T57: brick jelly | U57: 1105 | V57: cft | W57: 60 | Y57: =U57*W57 -> 66300
T58: Sand | U58: 552.7 | V58: cft | W58: 65 | Y58: =U58*W58 -> 35925.5
Y59: =SUM(Y56:Y58) -> 168525.5
A60: 11 | B60: Providing One-Brick Parapet Wall of 0'9" thickness at the circumferrence of roof slab for a length of 233'0" & height 1'0" using burnt clay bricks of dimensions 0'9" x 0'4 1/2" x 0'3" & cement M.sand mortar of ratio 1:6 | C60: 1 | E60: 1 | G60: 233 | H60: 0 | J60: 0.75 | K60: 0 | M60: 1 | N60: 0 | P60: =C60*E60*G60*J60*M60 -> 174.75 | Q60: =P60 -> 174.75 | R60: cft | T60: Brick | U60: 3000 | V60: nos | W60: 12 | X60: per no | Y60: =U60*W60 -> 36000
T61: Cement | U61: 4.14 | V61: bags | W61: 400 | X61: per bag | Y61: =U61*W61 -> 1656
T62: Sand | U62: 25.67 | V62: cft | W62: 60 | X62: per cft | Y62: =U62*W62 -> 1540.2
Y63: =SUM(Y60:Y62) -> 39196.2
A64: 12 | B64: Plastering of Parapet Wall of length 233'0" , height 1'0" & thickness 0'9" with cornice throating layer a top of thickness 1'3"using cement, p-sand at the ratio of 1:4 | C64: 1 | E64: 2 | G64: 233 | H64: 0 | M64: 1 | N64: 0 | P64: =C64*E64*G64*M64 -> 466 | Q64: =P64+P65 -> 873.75 | R64: sqft | T64: Cement | U64: 8.34 | V64: bags | W64: 400 | X64: per bag | Y64: =U64*W64 -> 3336
C65: 1 | E65: 1 | G65: 233 | H65: 0 | J65: =1.25+0.5 -> 1.75 | K65: 0 | P65: =E65*G65*J65 -> 407.75 | T65: P-Sand | U65: 41.3 | V65: cft | W65: 60 | X65: per cft | Y65: =932*W65 -> 55920
Y66: =SUM(Y64:Y65) -> 59256
A67: 13 | B67: Plastering of lateral sides of beam of area 1350 sqft using cement , p-sand at 1:4 | C67: 1 | E67: 1 | G67: 300 | H67: 0 | M67: 2.5 | N67: 0 | P67: =C67*E67*M67*G67 -> 750 | Q67: =P67+P68 -> 1350 | R67: sqft | T67: Cement | U67: 9.1 | V67: bags | W67: 400 | X67: per bag | Y67: =W67*U67 -> 3640
C68: 1 | E68: 1 | G68: 300 | H68: 0 | M68: 2 | N68: 0 | P68: =C68*E68*G68*M68 -> 600 | T68: P-Sand | U68: 45 | V68: cft | W68: 65 | X68: per cft | Y68: =U68*W68 -> 2925
Y69: =SUM(Y67:Y68) -> 6565
A70: 14 | B70: Plastering of Slab Ceiling of span 2611 sqft using cement and p-sand at 1:3 | C70: 1 | E70: 1 | G70: 2611 | Q70: =G70 -> 2611 | R70: sqft | T70: Cement | U70: 29.26 | V70: bags | W70: 400 | X70: per bag | Y70: =W70*U70 -> 11704
T71: P-Sand | U71: 108.51 | V71: cft | W71: 65 | X71: per cft | Y71: =U71*W71 -> 7053.15
Y72: =SUM(Y70:Y71) -> 18757.15
A73: 15 | B73: Flooring of span 2219sqft using 20mm thick granite slab(0.7ft) over sand spread of 0'2" thickness with cement paste | Q73: 155.3 | R73: cft | T73: Granite | U73: 2219 | V73: sft | W73: 400 | Y73: =2219*400 -> 887600
T74: Sand | U74: 369.8 | V74: cft | W74: 65 | Y74: =U74*W74 -> 24037
T75: Cement | U75: 10 | V75: bags | W75: 400 | Y75: =U75*W75 -> 4000
Y76: =SUM(Y73:Y75) -> 915637
A78: 17 | B78: Ornamental pillar decorative plastering as per the drawing . Included pothigai and all other moulding designs included. | Q78: 17 | R78: Nos | W78: 30000 | Y78: =Q78*W78 -> 510000
A80: 18 | B80: Kodunkai plastering all other decorative plasterings | Q80: 90 | R80: Rft | W80: 1800 | Y80: =Q80*W80 -> 162000
A82: 19 | B82: Salaharam work infront of mandapam east side | Q82: 90 | R82: Rft | W82: 3600 | Y82: =Q82*W82 -> 324000
A84: 20 | B84: Centring for Footing | Q84: 340 | R84: Rft | W84: 25 | X84: per Rft | Y84: =Q84*W84 -> 8500
A86: 21 | B86: Centring for Grade Beam of length 300'0" | Q86: 300 | R86: Rft | W86: 25 | X86: per Rft | Y86: =Q86*W86 -> 7500
A88: 22 | B88: Column Box Rentage for 17 columns of height 15'6" | X88: LS | Y88: 6000
A90: 23 | B90: Centring and steel work for roof slab and beam of span 2611sqft | Q90: 2611 | R90: sqft | W90: 150 | X90: per sqft | Y90: =Q90*W90 -> 391650
A92: 24 | B92: Steel work for Footing Mat of size 5'0" x 5'0"(25sqft) for 17 columns | Q92: 425 | R92: sqft | W92: 60 | X92: per sqft | Y92: =Q92*W92 -> 25500
A94: 25 | B94: Steel Work for Columns of height 15'6" inclusive of substructure and super structure columns | Q94: =15.5*17 -> 263.5 | R94: Rft | W94: 80 | X94: Rft | Y94: =Q94*W94 -> 21080
A96: 26 | B96: Steel Work for Grade Beam of length 300'0" | Q96: 300 | R96: Rft | W96: 80 | X96: Rft | Y96: =Q96*W96 -> 24000
Y99: =SUM(Y8:Y98) -> 4289169.2
Z100: =SUM(Z20:Z99) -> 9580.4519 | AA100: KGS
Q103: 1 | R103: MT | T103: Fabrication of Steel Reinforcement
Q104: 1000 | R104: Kg | T104: Mild steel or RTS | U104: =LEAD!F8 -> 58000 | V104: MT | W104: =Q104*U104/1000 -> 58000
Q105: 10 | R105: Kg | T105: Binding wire | U105: 56.35 | V105: Kg | W105: =Q105*U105 -> 563.5
Q106: 35 | R106: Nos | T106: Fitter I class | U106: =LEAD!L11 -> 866 | V106: Each | W106: =Q106*U106 -> 30310
T107: Total Rate per MT | W107: =SUM(W104:W106) -> 88873.5
T108: Rate per Qtl | W108: =ROUND((W107/10),1) -> 8887.4
